BEGIN:VCALENDAR
VERSION:2.0
PRODID:-//wp-events-plugin.com//7.2.3.1//EN
BEGIN:VEVENT
UID:29@ajshul.com
DTSTART:20251002T090000Z
DTEND:20251002T200000Z
DTSTAMP:20250821T014157Z
URL:https://ajshul.com/events/yom-kippur/
SUMMARY:Yom Kippur
DESCRIPTION:\n 	Shacharis 9:00 AM\n 	HaMelech 9:45 AM\n 	Torah Reading 11:4
 5 AM\n 	Sermon 12:15 PM\n 	Yizkor 12:35 PM\n 	Mincha 4:15 PM\n 	Neilah 6:0
 0 PM\n 	Maariv / Havdala 7:26 PM\n
LOCATION:UJCVP\, 401 City Center Blvd\, Newport News\, VA\, United States
X-APPLE-STRUCTURED-LOCATION;VALUE=URI;X-ADDRESS=401 City Center Blvd\, Newp
 ort News\, VA\, United States;X-APPLE-RADIUS=100;X-TITLE=UJCVP:geo:0,0
END:VEVENT
END:VCALENDAR