BEGIN:VCALENDAR
VERSION:2.0
PRODID:-//wp-events-plugin.com//7.2.3.1//EN
BEGIN:VEVENT
UID:21@ajshul.com
DTSTART:20250313T200000Z
DTEND:20250313T210000Z
DTSTAMP:20250312T192046Z
URL:https://ajshul.com/events/purim-megillah-esther-reading/
SUMMARY:Purim: Megillah Esther Reading
DESCRIPTION:Join us for a lively Megillah reading as we celebrate Purim wit
 h joy and tradition! Experience the retelling of Esther’s story with rua
 ch (spirit)\, noisemakers\, and community.
LOCATION:Adath Jeshurun Synagogue\, 401 City Center Blvd\, Newport News\, V
 A\, United States
X-APPLE-STRUCTURED-LOCATION;VALUE=URI;X-ADDRESS=401 City Center Blvd\, Newp
 ort News\, VA\, United States;X-APPLE-RADIUS=100;X-TITLE=Adath Jeshurun Sy
 nagogue:geo:0,0
END:VEVENT
END:VCALENDAR