BEGIN:VCALENDAR
VERSION:2.0
PRODID:-//wp-events-plugin.com//7.2.3.1//EN
BEGIN:VEVENT
UID:39@ajshul.com
DTSTART;TZID=America/New_York:20251212T163000
DTEND;TZID=America/New_York:20251212T180000
DTSTAMP:20251212T191103Z
URL:https://ajshul.com/events/friday-night-shabbos-service-6/
SUMMARY:Friday Night Shabbos Service
DESCRIPTION:Friday Night Services with Rabbi Litt.
LOCATION:Adath Jeshurun Synagogue\, 401 City Center Blvd\, Newport News\, V
 A\, United States
X-APPLE-STRUCTURED-LOCATION;VALUE=URI;X-ADDRESS=401 City Center Blvd\, Newp
 ort News\, VA\, United States;X-APPLE-RADIUS=100;X-TITLE=Adath Jeshurun Sy
 nagogue:geo:0,0
END:VEVENT
BEGIN:VTIMEZONE
TZID:America/New_York
X-LIC-LOCATION:America/New_York
BEGIN:STANDARD
DTSTART:20251102T010000
TZOFFSETFROM:-0400
TZOFFSETTO:-0500
TZNAME:EST
END:STANDARD
END:VTIMEZONE
END:VCALENDAR